BEGIN:VCALENDAR
VERSION:2.0
PRODID:-//Visite Guidate a Roma
CALSCALE:GREGORIAN
METHOD:PUBLISH
X-WR-CALNAME:Visite Guidate a Roma
X-ORIGINAL-URL:http://www.visite-guidate-roma.it/event/forma-urbis-2026-2/
X-WR-CALDESC:Parco Archeologico del Celio ed il Museo della “Forma Urbis”
BEGIN:VEVENT
DTSTART:20260125T110000
DTEND:
SUMMARY:Parco Archeologico del Celio ed il Museo della “Forma Urbis”
DESCRIPTION:
LOCATION:Parco Archeologico del Celio
END:VEVENT
END:VCALENDAR
